BEGIN:VCALENDAR
VERSION:2.0
PRODID:-//Filarmonica Intercomunale Quistello - Poggio Rusco - ECPv5.16.4//NONSGML v1.0//EN
CALSCALE:GREGORIAN
METHOD:PUBLISH
X-WR-CALNAME:Filarmonica Intercomunale Quistello - Poggio Rusco
X-ORIGINAL-URL:https://www.lafilarmonica.eu
X-WR-CALDESC:Eventi per Filarmonica Intercomunale Quistello - Poggio Rusco
BEGIN:VTIMEZONE
TZID:Europe/Rome
BEGIN:DAYLIGHT
TZOFFSETFROM:+0100
TZOFFSETTO:+0200
TZNAME:CEST
DTSTART:20250330T010000
END:DAYLIGHT
BEGIN:STANDARD
TZOFFSETFROM:+0200
TZOFFSETTO:+0100
TZNAME:CET
DTSTART:20251026T010000
END:STANDARD
END:VTIMEZONE
BEGIN:VEVENT
DTSTART;VALUE=DATE:20250710
DTEND;VALUE=DATE:20250714
DTSTAMP:20260419T231754
CREATED:20250708T162746Z
LAST-MODIFIED:20250806T081016Z
UID:479-1752105600-1752451199@www.lafilarmonica.eu
SUMMARY:Dragonstock 2025
DESCRIPTION:Come ogni anno torna la Woodstock della bassa a Dragoncello di Poggio Rusco!
URL:https://www.lafilarmonica.eu/index.php/event/dragonstock-2025/
LOCATION:Dragonstock\, Via Dosso (Frazione Dragoncello)\, Poggio Rusco\, MN\, 46025\, Italia
END:VEVENT
END:VCALENDAR